BEGIN:VCALENDAR
VERSION:2.0
PRODID:-//Tukios.com/
BEGIN:VEVENT
UID:6bc9aab8-9b80-468e-afb5-0107442c0add@www.trevinofuneralhome.net
DTSTAMP:20260422T235421Z
DTSTART:20260505T000000Z
DTEND:20260505T010000Z
SUMMARY:Rosary
DESCRIPTION:
URL:https://www.trevinofuneralhome.net/obituaries/miguel-rivera-espinosa
LOCATION: 3006 Niagara St  Corpus Christi TX 78405
GEO:27.7666153;-97.4196231
END:VEVENT
END:VCALENDAR